BEGIN:VCALENDAR
VERSION:2.0
PRODID:-//Stiri, Evenimente, Urban - ECPv6.15.17.1//NONSGML v1.0//EN
CALSCALE:GREGORIAN
METHOD:PUBLISH
X-WR-CALNAME:Stiri, Evenimente, Urban
X-ORIGINAL-URL:https://www.hiphoplive.ro
X-WR-CALDESC:Events for Stiri, Evenimente, Urban
REFRESH-INTERVAL;VALUE=DURATION:PT1H
X-Robots-Tag:noindex
X-PUBLISHED-TTL:PT1H
BEGIN:VTIMEZONE
TZID:UTC
BEGIN:STANDARD
TZOFFSETFROM:+0000
TZOFFSETTO:+0000
TZNAME:UTC
DTSTART:20150101T000000
END:STANDARD
END:VTIMEZONE
BEGIN:VEVENT
DTSTART;TZID=UTC:20180526T120000
DTEND;TZID=UTC:20180528T030000
DTSTAMP:20260422T151024
CREATED:20180305T131703Z
LAST-MODIFIED:20180305T131703Z
UID:67320-1527336000-1527476400@www.hiphoplive.ro
SUMMARY:Festivalul Insula
DESCRIPTION:🔥 the most epic experience 🔥 \n🔜 INSULA II\, 26-27 Mai🔝 \n❗Powerd by Aperol Spritz❗ \n‼ FIRST NAMES‼ \nMACANACHE\nCTC (Deliric/DOC/Vlad Dobrescu/DJ Nasa)\nDJ OPTICK\nADRIAN EFTIMIE\nDJ DARK\nALAN & KEPA\nDJ OLDSKULL\nDJ Lupu Alexandru\nGRUVESCU\nDJ LEXI\nDJ Marchi-Blue\nGENERAȚIA 99\nHYBRIS\nEDU\njitcă\nHawk\nG.U.S (Guerilla Underground System)\nWAKI\nIon Mihăiță (Host MC)\n& more soon \nEvent: https://www.facebook.com/events/165835964185704/
URL:https://www.hiphoplive.ro/eveniment/festivalul-insula/
LOCATION:Festivalul Insula\, Parcul Oltea Doamna Tecuci\, 805300 Tecuci
CATEGORIES:Festival
ATTACH;FMTTYPE=image/jpeg:https://www.hiphoplive.ro/wp-content/uploads/2018/03/27544721_582371902109311_3418212164427009825_n.jpg
END:VEVENT
BEGIN:VEVENT
DTSTART;TZID=UTC:20180526T080000
DTEND;TZID=UTC:20180527T170000
DTSTAMP:20260422T151024
CREATED:20180316T140608Z
LAST-MODIFIED:20180316T140608Z
UID:67569-1527321600-1527440400@www.hiphoplive.ro
SUMMARY:Festivalul Insula
DESCRIPTION:Proiectul „Insula” s-a nascut din dorinta de a pune orasul Tecuci pe harta festivalurilor de tineret din tara. \nScopul principal al acestui festival este acela de cultivare a interesului tinerilor pentru arta urbana și sustinerea tinerilor artisti din oras si din tara. \nPrima ediție a festivalului a avut loc in perioada 7\,8\,9  Iulie 2017\, fiind un real succes. Peste 5000 de tecuceni și tineri din județele Galați\, Vrancea si Bacău au participat la cel mai mare festival de muzică din Tecuci. Alături de aceștia a fost si o delegatie de tineri din orașul Cahul din Rep. Moldova. \n„Insula”\, festivalul unde cele patru elemente ale vieții\, apa\, focul\, pământul și aerul\, se îmbină cu cele patru elemente ale culturii hip-hop\, dans\, MC\, DJ si graffitti. \nEdiția a 2-a va reuni peste 20 de artiși ai artei urbane și ai muzicii electronice.\n26-27 MAI 2018\, 2 zile si 2 nopți de experiențe unice\, festivalul ce hrănește spiritul tânăr și electrizează trupul și mintea. \nPeste 10.000 de oameni sunt așteptați la cel mai mare festival din această zonă a Moldovei. \n–Techno: Adrian Eftimie\, DJ Optick\, Dj Dark \, Gruvescu\, Dj Marchi-Blue\, Dj Lupu Alexandru \n–Hip-Hop: Macanache\, CTC\, Alan & Kepa\, Dj Oldskull\, Dj Lexi\, G.U.S Crew\, Waki\, Edu\, Jitcă\, Generația ’99\, Hybris
URL:https://www.hiphoplive.ro/eveniment/festivalul-insula-3/
LOCATION:Tecuci\, tecuci\, Romania
CATEGORIES:Festival
ATTACH;FMTTYPE=image/jpeg:https://www.hiphoplive.ro/wp-content/uploads/2018/03/29133617_1852708341427246_7978865620290633728_n-1.jpg
END:VEVENT
BEGIN:VEVENT
DTSTART;TZID=UTC:20180324T170000
DTEND;TZID=UTC:20180331T100000
DTSTAMP:20260422T151024
CREATED:20180305T130516Z
LAST-MODIFIED:20180305T130516Z
UID:67308-1521910800-1522490400@www.hiphoplive.ro
SUMMARY:Snow Fest 2018 - Les 2 Alpes - Franta
DESCRIPTION:Snow Fest – ediția a VIII-a | 24-31 Martie 2018 – Les 2 Alpes\, Franța \nLes 2 Alpes: 1300 – 3600 m altitudine | 225 km de pârtii | 53 instalații de cablu | 17 pârtii verzi | 39 pârtii albastre | 19 pârtii roșii | 11 pârtii negre | + unul dintre cele mai complexe și apreciate snowpark-uri din Europa \nArtiști confirmați până acum: Coma\, Firma\, Golan (dj set)\, Grimus\, Jurjak\, Les Elephants Bizarres\, Luna Amară\, Macanache & The Putreds\, Next Ex\, Otherside\, Pixels\, Subcarpați\, Șuie Paparude\nDjs: Andreea Veder\, Blanilla\, MadLiquid\, Shiver\, Dj WicKeD \nTarife standard: 415 Euro – până în 24 Februarie | 455 Euro – după 24 Februarie\nPrețul include: cazare 7 nopți\, skipass 6 zile\, taxa de stațiune\, acces la toate activitățile din cadrul evenimentului. \nCazare apartamente: http://www.snow-fest.ro/pachet\nCazare hotel: http://www.snow-fest.ro/cazare2.php\nCazare chaleturi: http://www.snow-fest.ro/chaleturi\nCazare apartamente superioare: http://www.snow-fest.ro/apartamente-superioare \nDetalii transport: http://www.snow-fest.ro/transport.php \nMore info TBA \nEvent: https://www.facebook.com/events/142767869688874/
URL:https://www.hiphoplive.ro/eveniment/snow-fest-2018-les-2-alpes-franta/
LOCATION:Les Deux Alpes\, place des 2 Alpess\, 38860 Mont-De-Lans\, Rhone-Alpes\, France
CATEGORIES:Festival
ATTACH;FMTTYPE=image/jpeg:https://www.hiphoplive.ro/wp-content/uploads/2018/03/26730850_1502764123172589_159270056776083854_n.jpg
END:VEVENT
BEGIN:VEVENT
DTSTART;TZID=UTC:20170811T080000
DTEND;TZID=UTC:20170813T170000
DTSTAMP:20260422T151024
CREATED:20170705T131953Z
LAST-MODIFIED:20170705T131953Z
UID:64352-1502438400-1502643600@www.hiphoplive.ro
SUMMARY:Sunset Festival 2017
DESCRIPTION:☼ Sunset Festival 2017 ☼\n– editia a IV -a –\n11-12-13 August\n☼ Vama Veche ☼\n– open-air – \n▬▬ LINE-UP ▬▬ \nSubcarpați\nProfessor P & DJ Akilles\nCTC (DOC\, Deliric & Vlad Dobrescu)\nVița De Vie\nComa\nArgatu’\nNimeni Altu’\nraku\nDJ Oldskull\nSunet Fin\nThe Purple Dandies\nDru Klein\n+ more to be anounced \nAbonamente:\nhttp://tickets.sunsetfestival.ro/\n/http://bilete.sunsetfestival.ro/ \nFiecare vara are povestea ei iar vara asta povestea incepe cu Sunset Festival. Locul ala perfect cu muzica buna si toti prietenii alaturi. \nSunset Festival – se întoarce cu a patra ediție\, cu un line-up mai consistent\, mai divers\, cu atmosfera mai agitata\, cu oameni mai faini si cu mai mult chef de dans ca niciodata! \nwww.sunsetfestival.ro\nYou\, me & the sea.
URL:https://www.hiphoplive.ro/eveniment/sunset-festival-2017/
CATEGORIES:Festival
ATTACH;FMTTYPE=image/jpeg:https://www.hiphoplive.ro/wp-content/uploads/2017/07/19388451_1679495915413673_7048408811175313634_o.jpg
END:VEVENT
BEGIN:VEVENT
DTSTART;VALUE=DATE:20170722
DTEND;VALUE=DATE:20170723
DTSTAMP:20260422T151024
CREATED:20170714T135144Z
LAST-MODIFIED:20170714T135144Z
UID:64512-1500681600-1500767999@www.hiphoplive.ro
SUMMARY:La Familia la Festivara
DESCRIPTION:“Arad\, venim!\n#LaFamilia #CodulBunelorManiere”
URL:https://www.hiphoplive.ro/eveniment/la-familia-la-festivara/
LOCATION:Arad\, Arad
CATEGORIES:Concert,Eveniment,Festival
ATTACH;FMTTYPE=image/jpeg:https://www.hiphoplive.ro/wp-content/uploads/2017/07/19748833_10155281500570336_2914482449194036307_n.jpg
END:VEVENT
BEGIN:VEVENT
DTSTART;VALUE=DATE:20170609
DTEND;VALUE=DATE:20170612
DTSTAMP:20260422T151024
CREATED:20170603T103117Z
LAST-MODIFIED:20170603T103117Z
UID:63917-1496966400-1497225599@www.hiphoplive.ro
SUMMARY:Macanache & The Putreds și Jurjak @Street Delivery 2017 - București
DESCRIPTION:Macanache & The Putreds\, Jurjak sunt câteva nume ce vor concerta în cadrul festivalului Street Delivery anul acesta. \nEvenimentul are loc în inima Bucureștiului\, pe strada Arthur Verona(zona Piața Romană). \nLăsăm mai jos detalii despre eveniment din partea organizatorilor. \n“Adevărul e că ne-am săturat să ascultăm numai claxoane. Într-o grădină posibilă vacarmul orașului este înlocuit de muzică. Promitem să nu supărăm păsările din Grădina Icoanei sau din Grădina Universitarilor\, care la Street Delivery vor deveni o singură mare Grădină Posibilă. \nCa în fiecare an\, Street Delivery aduce pe scena dintre parcuri trupe care au ceva de spus. Susţinem muzica nouă românească și vă aducem sunetele pe care merită să le ascultați. De la 6 la 10 seara\, pe 9-10-11 iunie. \nVineri:\n21:00 Jurjak\n20:00 Group Bantame\n19:00 Heion and The Echo Bits\n18:00 Akim# \nSâmbătă:\n21:00 Macanache & The Putreds\n20:00 Helen\n19:00 Orkid\n18:00 Klassikall/Bassarab \nDuminică:\n21:00 Balkan Taksim\n20:00 Krisper\n19:00 Changing Skins\n18:00 Next Ex \nÎnchidem strada pentru mașini și o deschidem pentru oameni.” \nEvenimentul poate fi accesat aici.
URL:https://www.hiphoplive.ro/eveniment/macanache-the-putreds-si-jurjak-street-delivery-2017-bucuresti/
LOCATION:Strada Arthur Verona\, Strada Arthur Verona\, București\, Romania
CATEGORIES:Festival
ATTACH;FMTTYPE=image/jpeg:https://www.hiphoplive.ro/wp-content/uploads/2017/06/IMG_2485.jpg
END:VEVENT
BEGIN:VEVENT
DTSTART;TZID=UTC:20170519T160000
DTEND;TZID=UTC:20170520T220000
DTSTAMP:20260422T151024
CREATED:20170509T160715Z
LAST-MODIFIED:20170519T061515Z
UID:63545-1495209600-1495317600@www.hiphoplive.ro
SUMMARY:Ghibstock 8
DESCRIPTION:Anul ăsta e #LaDublu\nROA\, Argatu’ & romaNecredinciosu și Moș Martin\, byron\, E.M.I.L.\, The Mono Jacks\, The Kryptonite Sparks\, Theory of Mind\, DJ SHIVER\, Toy Machines\, Blurryface și câștigătorii bătăliilor Static și Frosten sunt doar o parte din artiștii care o să umple curtea școlii de enegie și muzică bună.\nStați aproape că se anunță nebunie pe două zile! \nGhibstock este în primul rând un eveniment caritabil\, de strângere de fonduri. De-a lungul celor șapte ediții am investit în cauze în care am crezut cu adevărat și în care ne-am implicat pe termen lung.\nAnul acesta fondurile strânse în cadrul festivalului vor fi folosite pentru realizarea proiectului feel your city\, adresat persoanelor nevăzătoare. \nFestivalul este deschis tuturor\, indiferent de vârstă. Având în vedere că este vorba despre un eveniment caritabil\, accesul se face în schimbul unei donații sugerate de 25 de lei pentru ambele zile și de 15 lei pentru o singură zi; copii sub 7 ani însoțiți de părinți intră gratis\, iar copii între 7-12 15 lei pentru ambele zile și 8 lei pentru o zi – aceștia trebuie să aibă carnetul de elevi la ei\, altfel nu se aplică reducerea.
URL:https://www.hiphoplive.ro/eveniment/ghibstock-8/
LOCATION:Liceul Teoretic “Onisifor Ghibu”\, Cluj\, Cluj-Napoca\, str. A. Vlahuta\, nr. 12-14\, jud. Cluj\, Romania\, 400315 Cluj-Napoca
CATEGORIES:Concert,Eveniment,Festival
ATTACH;FMTTYPE=image/jpeg:https://www.hiphoplive.ro/wp-content/uploads/2017/05/18301988_1309311095773465_1432684416537767734_n.jpg
END:VEVENT
BEGIN:VEVENT
DTSTART;TZID=UTC:20170513T140000
DTEND;TZID=UTC:20170514T220000
DTSTAMP:20260422T151024
CREATED:20170513T102827Z
LAST-MODIFIED:20170513T103423Z
UID:63652-1494684000-1494799200@www.hiphoplive.ro
SUMMARY:UNDERval 2017
DESCRIPTION:Primăria Municipiului București\, prin PROEDUS\, organizează festivalul de cultură urbană “UNDERval”. Prin UNDERval se doreste culturalizarea și participarea activă\, într-un spațiu organizat\, a împătimiților de sporturi extreme\, muzică\, dans și design. \nProgramul artiștilor pe scena UNDERval va incepe dupa ora 18:30\, dupa cum urmeaza:\nSâmbătă\, 13 mai 2017\n– MUZE\n– CRED CA SUNT EXTRATERESTRU\n– CTC.\nDuminica\, 14 mai 2017\n– EL NINO\n– ALAN & KEPA\n– raku\n– MACANACHE.\nÎn intervalul orar 14:00-22:00\, atat sâmbătă\, cât și duminică\, veti putea participa la concursuri\, demonstratii si workshop-uri de dans\, graffiti\, skateboarding\, role freestyle\, trotinete\, BMX\, masinuțe tip RC crawler si multe\, multe altele!\nIntrarea este liberă! See u there! \nEvent: https://www.facebook.com/events/1405519516227122/
URL:https://www.hiphoplive.ro/eveniment/underval-2017/
LOCATION:Parcul Carol I\, Bucuresti
CATEGORIES:Concert,Festival
ATTACH;FMTTYPE=image/jpeg:https://www.hiphoplive.ro/wp-content/uploads/2017/05/18422253_1864498403810806_7279310254970806085_o.jpg
END:VEVENT
BEGIN:VEVENT
DTSTART;TZID=UTC:20160908T080000
DTEND;TZID=UTC:20160911T170000
DTSTAMP:20260422T151024
CREATED:20160906T115825Z
LAST-MODIFIED:20160906T115939Z
UID:60231-1473321600-1473613200@www.hiphoplive.ro
SUMMARY:Bucharest Street Food Festival
DESCRIPTION:Abonamente disponibile aici: https://www.myticket.ro/evenimente/bucharest-street-food-festival-romexpo-bucuresti-11-septembrie-2016.html \nPrimul festival din București dedicat street foodului aprinde cuptoarele pe 8 septembrie și până pe 11\, inclusiv\, vă așteaptă cu mic\, cu mare să savurați fel și fel de preparate cu suflet de oraș. \n\nPentru că mâncarea delicioasă se asortează cu spațiile deschise și lume multă\, ne vedem la Romexpo\, pe aleea din fața Pavilionului Central. De la rulote la căruțe și de la cele mai mari food trucks la biciclete\, am făcut loc pentru toate gusturile\, pe cei peste 11.500 metri pătrați de alei și gazon disponibili.\nÎn tot acest timp noi îți coacem o vacanță de patru zile printr-o lumeculinară inedită\, alături de „starurile” nerăbdătoare să te lase cu gura căscată! \nCe poți mânca la festival? Burgeri\, hotdogs\, sandwichuri\, tacos\, burritos\, paste\, barbeques\, înghețată… și mai bine punem punct aici\, pentru că știm că și vouă vă lasă gura apă. Și\, dacă nu consumi carne\, stai fără griji: Bucharest Street Food Festival s-a gândit și la vegani și vegetarieni. În plus\, știm cât de importantă este hidratarea\, așa că ți-am pregătit o varietate de băuturi răcoritoare și alcoolice\, cât și cafea care să-ți dea energie să mai mânânci ce-ți face cu ochiul. \nAccesul la festival este liber până la ora 16:00. Ulterior acestei ore\, accesul se face doar pe bază de abonament pentru toate cele patru zile sau pe bază de bilet zilnic\, acestea putând fi deja achiziționate online pehttp://buchareststreetfoodfestival.ro/ și myticket.ro.\nPrețul unui abonament pentru cele 4 zile de festival este de 30 de lei + taxe*\, dacă este achiziționat până pe 1 septembrie.\nDoar în masura în care vor exista locuri disponibile\, biletele zilnice vor putea fi achiziționate și direct de la Romexpo.\n* comision procesare și distribuție (2 lei). \nLista vendori participanți (still updating):\n Pește Pâine\n Burger Van\n Furgoneta\n Camionetta\n Arrosticini\n Circus Pub Truck\n Voyageur Van\n Cârnățărie Germană\n Creperie Citroen\n Finca Alioli Van\n Castelul Brutarilor\n M’eat\n Butoiul cu Înghețată\n Duma’s Van\n Grano\n Sunday Bagels\n La Nu Știu Cine\n Meat Busters\n Victorița Pescărița\n Cantina 9\n Elemozsia\n Betty Ice\n Streat Bus\n Limonada Lui Iulian\n Frizzante Ride\n Moritz Eis\n Rolls\n Molcom\n Orygyns\n Guido On Tour\n Vatra Neamului\n Norma Lui Sissoko\n Kanpai\n Streat Bus\n Urban Monkey/ Frufru\n Gourmet Street Food\n Cafecicleta\n Thai Scoops\n Noodle Pack\n Caru cu Cafea\n Animocaffe\n Switch Morn\n Zummo\n Taverna Racilor\n Grill World\n Sora lu’ Scărlătescu\n Zobuian\n Afumătoare Valeputna\n Taj\n Maria Corau\n Plăcinte Boierești\n Puro & Bio\n Off The Wall\n Sloop\n Gin Bar by Finca Alioli\n Șpriț House \nMusic line-up:\n• Nouvelle Vague\n• Dub Pistols\n• Jaya The Cat\n• Ziggi Recado\n• Audio Bullys\n• Golan\n• Șuie Paparude\n• Coma\n• Fantome\n• Argatu\n• Frații Grime\n• Cred că sunt extraterestru\n• Subcarpați\n• Macanache & The Putreds\n• Otherside\n• Helen\n• Timpuri Noi\n• Gojira & Planet H\n• Vlad Dobrescu (DJ set) \nSee you there! \nAccesul la festival este liber până la ora 16:00. Ulterior acestei ore\, accesul se face doar pe bază de abonament pentru toate cele patru zile sau pe bază de bilet zilnic\, acestea putând fi deja achiziționate online pehttp://buchareststreetfoodfestival.ro/ și myticket.ro.\nPrețul unui abonament pentru cele 4 zile de festival este de 30 de lei + taxe*\, dacă este achiziționat până pe 1 septembrie.\nDoar în masura în care vor exista locuri disponibile\, biletele zilnice vor putea fi achiziționate și direct de la Romexpo în zilele de festival.\n* comision procesare și distribuție (2 lei).
URL:https://www.hiphoplive.ro/eveniment/bucharest-street-food-festival/
LOCATION:ROMEXPO\, Bucuresti
CATEGORIES:Festival
ATTACH;FMTTYPE=image/jpeg:https://www.hiphoplive.ro/wp-content/uploads/2016/09/13669200_714059368735338_8078022412882844526_n.jpg
END:VEVENT
BEGIN:VEVENT
DTSTART;VALUE=DATE:20160513
DTEND;VALUE=DATE:20160514
DTSTAMP:20260422T151024
CREATED:20160508T201457Z
LAST-MODIFIED:20160509T142420Z
UID:58714-1463097600-1463183999@www.hiphoplive.ro
SUMMARY:Ghibstock\, festivalul din curtea şcolii
DESCRIPTION:Povestea Ghibstock continuă cu ediția a 7-a! Ne revedem în curtea școlii pe 13 mai într-o vineri în care spargem ghinionul pe muzica demi-zeu-lui MACANACHE\, dar și a altor artiști autohtoni precum Dj Shiver\, Basska\, Satellites\, Hybrid Symphony și Static. \nAnul acesta va fi amenajată o a doua scenă powered by Beard Brothers\, unde vor fi prezenti DigitalLove\, Just D’Light\, Ahe&Frenk\, Syl și Marinaru. \nBob Rădulescu de la Cenzurat și Epic Show va veni ca MC. \n  \nLocaţia:Curtea Lic. Onisifor Ghibu\, Strada Alexandru Vlahuță 14\, Cluj-Napoca \nData şi ora: 13 Mai @4:00 pm – 10:00 pm \nIntrarea: 13 Lei \nPuteţi să găsiţi mai multe informaţii legate de acest eveniment dând click aici.
URL:https://www.hiphoplive.ro/eveniment/ghibstock-festivalul-din-curtea-scolii/
CATEGORIES:Concert,Eveniment,Festival
ATTACH;FMTTYPE=image/png:https://www.hiphoplive.ro/wp-content/uploads/2016/05/13103487_991898800848031_101897272121606268_n.png
END:VEVENT
END:VCALENDAR